BEGIN:VCALENDAR
VERSION:2.0
PRODID:-//wp-events-plugin.com//7.2.3.1//EN
BEGIN:VEVENT
UID:101@globkee.com
DTSTART;TZID=America/New_York:20260523T200000
DTEND;TZID=America/New_York:20260523T210000
DTSTAMP:20260423T141626Z
URL:https://globkee.com/events/where-its-warm-album-release-concert/
SUMMARY:"Where It's Warm" Album Release Concert
DESCRIPTION:asia mei\, a genre-blending pianist\, composer\, songwriter and
  busy mom\, is celebrating the release of her first album in 7 years.an ev
 ening of piano\, songs and compositions from the new album.Tickets option 
 include $25 full price\, or a pay as you wish option. listen to asia's new
  album on spotify - http://tiny.cc/whereitswarmwww.asiamei.cominstagram.co
 m/asiameimusic/
ATTACH;FMTTYPE=image/jpeg:https://globkee.com/gteam_content/uploads/2026/0
 4/100255753_image.jpg
CATEGORIES:Album release
LOCATION:Piano Craft Gallery\, 793 Tremont Street\, Boston\, MA 02118\, Bos
 ton\, MA\, 02118\, United States
GEO:42.338711;-71.082057
X-APPLE-STRUCTURED-LOCATION;VALUE=URI;X-ADDRESS=793 Tremont Street\, Boston
 \, MA 02118\, Boston\, MA\, 02118\, United States;X-APPLE-RADIUS=100;X-TIT
 LE=Piano Craft Gallery:geo:42.338711,-71.082057
END:VEVENT
BEGIN:VTIMEZONE
TZID:America/New_York
X-LIC-LOCATION:America/New_York
BEGIN:DAYLIGHT
DTSTART:20260308T030000
TZOFFSETFROM:-0500
TZOFFSETTO:-0400
TZNAME:EDT
END:DAYLIGHT
END:VTIMEZONE
END:VCALENDAR