BEGIN:VCALENDAR
VERSION:2.0
PRODID:-//wp-events-plugin.com//7.2.3.1//EN
BEGIN:VEVENT
UID:96@globkee.com
DTSTART;TZID=America/New_York:20260524T180000
DTEND;TZID=America/New_York:20260524T223000
DTSTAMP:20260423T140020Z
URL:https://globkee.com/events/vessel-music-live-in-concert-featuring-spec
 ial-guest-artists/
SUMMARY:Vessel Music Live In Concert Featuring Special Guest Artists
DESCRIPTION:Vessel Music Live In ConcertROCK &amp\; STAY PRESENTSVessel Mus
 ic Live In ConcertJoin us for an inspiring evening of live music and power
 ful performances featuring Vessel Music and special guest artists.Special 
 Guest Artists:*2nd Chance   *Abi McDonald   *1 Mancha   *DawaidAdditional 
 Information:Refreshments will be available for purchase.Tickets available 
 online and at the door.
ATTACH;FMTTYPE=image/jpeg:https://globkee.com/gteam_content/uploads/2026/0
 4/100255733_image.jpg
CATEGORIES:Concert
LOCATION:2201 NW 26th St\, 2201 Northwest 26th Street\, Oakland Park\, FL 3
 3311\, Oakland Park\, FL\, 33311\, United States
GEO:26.158643;-80.171897
X-APPLE-STRUCTURED-LOCATION;VALUE=URI;X-ADDRESS=2201 Northwest 26th Street\
 , Oakland Park\, FL 33311\, Oakland Park\, FL\, 33311\, United States;X-AP
 PLE-RADIUS=100;X-TITLE=2201 NW 26th St:geo:26.158643,-80.171897
END:VEVENT
BEGIN:VTIMEZONE
TZID:America/New_York
X-LIC-LOCATION:America/New_York
BEGIN:DAYLIGHT
DTSTART:20260308T030000
TZOFFSETFROM:-0500
TZOFFSETTO:-0400
TZNAME:EDT
END:DAYLIGHT
END:VTIMEZONE
END:VCALENDAR