BEGIN:VCALENDAR
VERSION:2.0
PRODID:-//wp-events-plugin.com//7.2.3.1//EN
BEGIN:VEVENT
UID:98@globkee.com
DTSTART;TZID=America/New_York:20260530T160000
DTEND;TZID=America/New_York:20260530T210000
DTSTAMP:20260423T140459Z
URL:https://globkee.com/events/the-glorious-redemption-concert/
SUMMARY:The Glorious Redemption Concert
DESCRIPTION:A bilingual urban Christian music experience designed to unite 
 generations through faith\, worship\, and culture.A powerful night of musi
 c brings together contemporary urban Christian sounds with heartfelt messa
 ges of redemptio\, hope\, and spiritual renewal. This is more than a conce
 rt-it's a moment of reflection\, celebration\, and reconnection with God t
 hrough music that speaks to the soul.
ATTACH;FMTTYPE=image/jpeg:https://globkee.com/gteam_content/uploads/2026/0
 4/100255741_image.jpg
CATEGORIES:Concert
LOCATION:The Agape Hall\, 3377 Aloma Avenue\, Winter Park\, FL 32792\, Wint
 er Park\, FL\, 32792\, United States
GEO:28.606171;-81.303947
X-APPLE-STRUCTURED-LOCATION;VALUE=URI;X-ADDRESS=3377 Aloma Avenue\, Winter 
 Park\, FL 32792\, Winter Park\, FL\, 32792\, United States;X-APPLE-RADIUS=
 100;X-TITLE=The Agape Hall:geo:28.606171,-81.303947
END:VEVENT
BEGIN:VTIMEZONE
TZID:America/New_York
X-LIC-LOCATION:America/New_York
BEGIN:DAYLIGHT
DTSTART:20260308T030000
TZOFFSETFROM:-0500
TZOFFSETTO:-0400
TZNAME:EDT
END:DAYLIGHT
END:VTIMEZONE
END:VCALENDAR