BEGIN:VCALENDAR
VERSION:2.0
PRODID:-//wp-events-plugin.com//7.2.3.1//EN
BEGIN:VEVENT
UID:97@globkee.com
DTSTART;TZID=America/Chicago:20260508T200000
DTEND;TZID=America/Chicago:20260508T230000
DTSTAMP:20260423T140302Z
URL:https://globkee.com/events/the-company-you-keep-live-concert/
SUMMARY:The Company You Keep Live Concert
DESCRIPTION:Get ready to vibe with The Company You Keep Live Concert—an u
 nforgettable night of killer tunes and good people!Get Ready for The Compa
 ny You Keep Live Concert!\nCome hang out and vibe with us at the in-person
  The Company You Keep Live Concert. It’s gonna be an epic night filled w
 ith great tunes and even better company. Bring your friends\, your energy\
 , and get ready to make some awesome memories. Don’t miss out on the fun
  — see you there!
ATTACH;FMTTYPE=image/jpeg:https://globkee.com/gteam_content/uploads/2026/0
 4/100255737_image.png
CATEGORIES:Concert
LOCATION:2372 St Claude Ave\, 2372 Saint Claude Avenue\, New Orleans\, LA 7
 0117\, New Orleans\, LA\, 70117\, United States
GEO:29.968603;-90.05241
X-APPLE-STRUCTURED-LOCATION;VALUE=URI;X-ADDRESS=2372 Saint Claude Avenue\, 
 New Orleans\, LA 70117\, New Orleans\, LA\, 70117\, United States;X-APPLE-
 RADIUS=100;X-TITLE=2372 St Claude Ave:geo:29.968603,-90.05241
END:VEVENT
BEGIN:VTIMEZONE
TZID:America/Chicago
X-LIC-LOCATION:America/Chicago
BEGIN:DAYLIGHT
DTSTART:20260308T030000
TZOFFSETFROM:-0600
TZOFFSETTO:-0500
TZNAME:CDT
END:DAYLIGHT
END:VTIMEZONE
END:VCALENDAR