BEGIN:VCALENDAR
VERSION:2.0
PRODID:-//wp-events-plugin.com//7.2.3.1//EN
BEGIN:VEVENT
UID:103@globkee.com
DTSTART;TZID=America/Chicago:20260509T140000
DTEND;TZID=America/Chicago:20260509T220000
DTSTAMP:20260423T142127Z
URL:https://globkee.com/events/ritmo-music-fest/
SUMMARY:RITMO Music Fest
DESCRIPTION:Experience the ultimate celebration of Latino culture and music
  in the Midwest at Omaha’s newest music festival\, RITMO Music Fest!A fu
 ll day of beats\, vibe\, and puro ritmo at Omaha’s Heartland of America 
 Park. RITMO is bringing the sound of today’s Latino culture to the Midwe
 st. A stacked lineup moving from reggaeton and Latin pop to regional Mexic
 an banda\, urbano\, and DJ sets. One stage. Curated foods. Ice-cold drinks
 . Unmatched skyline views.Come early. Stay late. Catch every set.Full line
 up coming soon!Current Ticket Options - Payment plans available.General Ad
 mission - $130VIP - $200Follow us @ritmomusicfest for updates!For more inf
 ormation on RITMO\, please visit ritmomusicfest.com
ATTACH;FMTTYPE=image/jpeg:https://globkee.com/gteam_content/uploads/2026/0
 4/100255761_image.png
CATEGORIES:Festival
LOCATION:Heartland of America Park at The RiverFront\, 800 Douglas Street\,
  Omaha\, NE 68102\, Omaha\, NE\, 68102\, United States
GEO:41.256681;-95.924842
X-APPLE-STRUCTURED-LOCATION;VALUE=URI;X-ADDRESS=800 Douglas Street\, Omaha\
 , NE 68102\, Omaha\, NE\, 68102\, United States;X-APPLE-RADIUS=100;X-TITLE
 =Heartland of America Park at The RiverFront:geo:41.256681,-95.924842
END:VEVENT
BEGIN:VTIMEZONE
TZID:America/Chicago
X-LIC-LOCATION:America/Chicago
BEGIN:DAYLIGHT
DTSTART:20260308T030000
TZOFFSETFROM:-0600
TZOFFSETTO:-0500
TZNAME:CDT
END:DAYLIGHT
END:VTIMEZONE
END:VCALENDAR