BEGIN:VCALENDAR
VERSION:2.0
PRODID:-//wp-events-plugin.com//7.2.3.1//EN
BEGIN:VEVENT
UID:99@globkee.com
DTSTART;TZID=America/New_York:20260523T200000
DTEND;TZID=America/New_York:20260523T220000
DTSTAMP:20260423T141153Z
URL:https://globkee.com/events/mya-live-in-concert/
SUMMARY:Mya Live in Concert!
DESCRIPTION:Radio Promotions Entertainment presents R&B superstar MYA Live 
 in Concert Saturday May 23rd at Seminole Casino Immokalee!Southwest Florid
 a\, this is the concert you’ve been waiting for! Radio Promotions Entert
 ainment presents Grammy Award-winning R&amp\;B superstar Mýa Live in conc
 ert Saturday May 23\, 2026 at The Seminole Casino Hotel Immokalee! Show st
 arts at 8pm! FREE PARKING!
ATTACH;FMTTYPE=image/jpeg:https://globkee.com/gteam_content/uploads/2026/0
 4/100255745_image.png
CATEGORIES:Concert
LOCATION:Seminole Casino Hotel Immokalee\, 506 South 1st Street\, Immokalee
 \, FL 34142\, Immokalee\, FL\, 34142\, United States
GEO:26.410635;-81.416476
X-APPLE-STRUCTURED-LOCATION;VALUE=URI;X-ADDRESS=506 South 1st Street\, Immo
 kalee\, FL 34142\, Immokalee\, FL\, 34142\, United States;X-APPLE-RADIUS=1
 00;X-TITLE=Seminole Casino Hotel Immokalee:geo:26.410635,-81.416476
END:VEVENT
BEGIN:VTIMEZONE
TZID:America/New_York
X-LIC-LOCATION:America/New_York
BEGIN:DAYLIGHT
DTSTART:20260308T030000
TZOFFSETFROM:-0500
TZOFFSETTO:-0400
TZNAME:EDT
END:DAYLIGHT
END:VTIMEZONE
END:VCALENDAR