BEGIN:VCALENDAR
VERSION:2.0
PRODID:-//wp-events-plugin.com//7.2.3.1//EN
BEGIN:VEVENT
UID:104@globkee.com
DTSTART;TZID=America/Chicago:20260502T173000
DTEND;TZID=America/Chicago:20260502T200000
DTSTAMP:20260423T142322Z
URL:https://globkee.com/events/may-day-concert-featuring-ladi-k-and-friend
 s/
SUMMARY:May Day Concert featuring Ladi K and Friends
DESCRIPTION:Join us for a fun-filled May Day Concert with Ladi K and Friend
 s\, live vibes and good times all around!May Day Concert featuring Ladi K 
 and FriendsMAY DAY is more than a date\; it's a call to worship. Get ready
  for an urgent\, spirit filled night of praise and unity.  Join Ladi K and
  friends as they life the name of the Lord without restraint. This is not 
 just a concert\; it's a divine moment you don't want to miss. 
ATTACH;FMTTYPE=image/jpeg:https://globkee.com/gteam_content/uploads/2026/0
 4/100255765_image.jpg
CATEGORIES:Concert
LOCATION:Victory Life Christian Center\, 1901 Woodland Avenue Southwest\, B
 irmingham\, AL 35211\, Birmingham\, AL\, 35211\, United States
GEO:33.491898;-86.870269
X-APPLE-STRUCTURED-LOCATION;VALUE=URI;X-ADDRESS=1901 Woodland Avenue Southw
 est\, Birmingham\, AL 35211\, Birmingham\, AL\, 35211\, United States;X-AP
 PLE-RADIUS=100;X-TITLE=Victory Life Christian Center:geo:33.491898,-86.870
 269
END:VEVENT
BEGIN:VTIMEZONE
TZID:America/Chicago
X-LIC-LOCATION:America/Chicago
BEGIN:DAYLIGHT
DTSTART:20260308T030000
TZOFFSETFROM:-0600
TZOFFSETTO:-0500
TZNAME:CDT
END:DAYLIGHT
END:VTIMEZONE
END:VCALENDAR