BEGIN:VCALENDAR
VERSION:2.0
PRODID:-//wp-events-plugin.com//7.2.3.1//EN
BEGIN:VEVENT
UID:100@globkee.com
DTSTART;TZID=America/New_York:20260509T180000
DTEND;TZID=America/New_York:20260509T233000
DTSTAMP:20260423T141436Z
URL:https://globkee.com/events/gold-mountain-music-fest-vii/
SUMMARY:Gold Mountain Music Fest VII
DESCRIPTION:Get ready to rock at Gold Mountain Music Fest VII—live tunes\
 , great food and drink ALL NIGHT LONG!Join Us at Gold Mountain Music Fest 
 VII!Get ready for an unforgettable night of fun and tunes at the Gold Moun
 tain Music Fest VII! This is an in-person event where you can soak up the 
 vibes\, dance to awesome bands\, and hang out with fellow music lovers. Wh
 ether you're coming solo or with friends\, the fest promises a good time f
 or all. Don’t miss out on this must-attend event—bring your energy and
  let’s make some memories!
ATTACH;FMTTYPE=image/jpeg:https://globkee.com/gteam_content/uploads/2026/0
 4/100255749_image.jpg
CATEGORIES:Festival
LOCATION:Dormont\, 1801 Dormont Avenue\, pittsburgh\, PA 15216\, pittsburgh
 \, PA\, 15216\, United States
GEO:40.396658;-80.043235
X-APPLE-STRUCTURED-LOCATION;VALUE=URI;X-ADDRESS=1801 Dormont Avenue\, pitts
 burgh\, PA 15216\, pittsburgh\, PA\, 15216\, United States;X-APPLE-RADIUS=
 100;X-TITLE=Dormont:geo:40.396658,-80.043235
END:VEVENT
BEGIN:VTIMEZONE
TZID:America/New_York
X-LIC-LOCATION:America/New_York
BEGIN:DAYLIGHT
DTSTART:20260308T030000
TZOFFSETFROM:-0500
TZOFFSETTO:-0400
TZNAME:EDT
END:DAYLIGHT
END:VTIMEZONE
END:VCALENDAR