BEGIN:VCALENDAR
VERSION:2.0
PRODID:-//wp-events-plugin.com//7.2.3.1//EN
BEGIN:VEVENT
UID:102@globkee.com
DTSTART;TZID=America/New_York:20260516T120000
DTEND;TZID=America/New_York:20260516T213000
DTSTAMP:20260423T141819Z
URL:https://globkee.com/events/fairfield-hills-music-festival/
SUMMARY:Fairfield Hills Music Festival
DESCRIPTION:Get ready to jam out all day with awesome bands and good vibes 
 at this can't-miss music fest!The Fairfield Hills Music Festival returns o
 n May 16\, 2026\, bringing a full day of energy\, community\, and unforget
 table live performances to one of Connecticut’s most iconic venues. This
  year’s festival showcases an incredible lineup of regional and local ta
 lent\, highlighting the best sounds from across the area.Main Stage Lineup
 :Headlining the festival is the electrifying Sister Sparrow and the Dirty 
 Birds\, joined by an outstanding roster including The Moonrise Cartel\, Th
 e Whiskey Treaty Roadshow\, Jake Kulak and the Modern Vandals\, and Bitter
 sweet Descent.Second Stage Performances:Keep the music going all day with 
 The Deckler Bandits\, Eddie Seville\, Riley Cotton\, D’Pew\, and The Fla
 gpole Radio Band delivering incredible sets on the second stage.Set agains
 t the unique backdrop of Fairfield Hills\, this event isn’t just a conce
 rt—it’s an experience. Whether you’re discovering your next favorite
  artist\, enjoying great food and drinks\, or soaking in the atmosphere wi
 th friends and family\, there’s something here for everyone.Come celebra
 te live music\, local culture\, and community spirit. Mark your calendar\,
  bring your crew\, and don’t miss one of the most anticipated music even
 ts of the season.Fairfield Hills Music Festival – May 16\, 2026Good vibe
 s. Great music. One unforgettable day.Grab your tickets early and SAVE $5!
 General Admission: $55 + (tax and fee)Day-Of Admission: $60 + (tax and fee
  )May 16th\, 2026Re - Entry is allowed up until 6pmFood Trucks :Joey C's K
 ick A** BBQ &amp\; BurgersThe CoopLos Mariachis Authentic Mexican CuisineL
 os Mariachis Roaster😀 Kids 12 &amp\; under: Free🚗 Parking: FreeEvent
  is rain or shine ☀️
ATTACH;FMTTYPE=image/jpeg:https://globkee.com/gteam_content/uploads/2026/0
 4/100255757_image.png
CATEGORIES:Festival
LOCATION:Fairfield Hills Campus\, 3 Primrose Street\, Newtown\, CT 06470\, 
 Newtown\, CT\, 06470\, United States
GEO:41.399985;-73.283328
X-APPLE-STRUCTURED-LOCATION;VALUE=URI;X-ADDRESS=3 Primrose Street\, Newtown
 \, CT 06470\, Newtown\, CT\, 06470\, United States;X-APPLE-RADIUS=100;X-TI
 TLE=Fairfield Hills Campus:geo:41.399985,-73.283328
END:VEVENT
BEGIN:VTIMEZONE
TZID:America/New_York
X-LIC-LOCATION:America/New_York
BEGIN:DAYLIGHT
DTSTART:20260308T030000
TZOFFSETFROM:-0500
TZOFFSETTO:-0400
TZNAME:EDT
END:DAYLIGHT
END:VTIMEZONE
END:VCALENDAR