BEGIN:VCALENDAR
VERSION:2.0
PRODID:-//wp-events-plugin.com//7.2.3.1//EN
BEGIN:VEVENT
UID:70@globkee.com
DTSTART;TZID=America/New_York:20240827T193000
DTEND;TZID=America/New_York:20261227T210000
DTSTAMP:20251220T220451Z
URL:https://globkee.com/events/down-bad-comedy-show/
SUMMARY:Down Bad Comedy Show
DESCRIPTION:NYC's Hottest Comedy Show - Every Wednesday\n\n\n\nDown Bad Com
 edy Show - Every Wednesday!\n\nNYC's newest hidden intimate Comedy show at
  St. Marks Comedy Club.\n\nWatch Comedians from Comedy Central\, Netflix\,
  HBO\, Adult Swim\, and more work out their jokes before they hit the big 
 screens.\n\nCome grab drinks\, wind down\, and laugh with us every Wednesd
 ay\, see ya there!\n\n\n
ATTACH;FMTTYPE=image/jpeg:https://globkee.com/gteam_content/uploads/2025/1
 2/100247930_image.png
CATEGORIES:Comedy
LOCATION:St. Marks Comedy Club\, 12 Saint Marks Place\, New York\, NY 10003
 \, New York\, NY\, 10003\, United States
GEO:40.72911;-73.989206
X-APPLE-STRUCTURED-LOCATION;VALUE=URI;X-ADDRESS=12 Saint Marks Place\, New 
 York\, NY 10003\, New York\, NY\, 10003\, United States;X-APPLE-RADIUS=100
 ;X-TITLE=St. Marks Comedy Club:geo:40.72911,-73.989206
END:VEVENT
BEGIN:VTIMEZONE
TZID:America/New_York
X-LIC-LOCATION:America/New_York
BEGIN:DAYLIGHT
DTSTART:20240310T030000
TZOFFSETFROM:-0500
TZOFFSETTO:-0400
TZNAME:EDT
END:DAYLIGHT
BEGIN:STANDARD
DTSTART:20241103T010000
TZOFFSETFROM:-0400
TZOFFSETTO:-0500
TZNAME:EST
END:STANDARD
BEGIN:DAYLIGHT
DTSTART:20250309T030000
TZOFFSETFROM:-0500
TZOFFSETTO:-0400
TZNAME:EDT
END:DAYLIGHT
BEGIN:STANDARD
DTSTART:20251102T010000
TZOFFSETFROM:-0400
TZOFFSETTO:-0500
TZNAME:EST
END:STANDARD
BEGIN:DAYLIGHT
DTSTART:20260308T030000
TZOFFSETFROM:-0500
TZOFFSETTO:-0400
TZNAME:EDT
END:DAYLIGHT
BEGIN:STANDARD
DTSTART:20261101T010000
TZOFFSETFROM:-0400
TZOFFSETTO:-0500
TZNAME:EST
END:STANDARD
END:VTIMEZONE
END:VCALENDAR