BEGIN:VCALENDAR
VERSION:2.0
PRODID:-//wp-events-plugin.com//7.2.3.1//EN
BEGIN:VEVENT
UID:71@globkee.com
DTSTART;TZID=America/Los_Angeles:20251025T203000
DTEND;TZID=America/Los_Angeles:20261230T214500
DTSTAMP:20251206T203831Z
URL:https://globkee.com/events/big-black-comedy-show/
SUMMARY:Big Black Comedy Show
DESCRIPTION:Big Black Comedy Show is Vegas' newest and funniest production.
 Big Black Comedy Show is Vegas' newest and funniest production. They might
  not be household names like Dave Chappelle\, Katt Williams\, or Kevin Har
 t\, but this rotating cast of up and coming comedians are every bit as hil
 arious! This is adult comedy for all! Free drink included. LET'S GET IT!
ATTACH;FMTTYPE=image/jpeg:https://globkee.com/gteam_content/uploads/2025/1
 2/100247934_image.jpg
CATEGORIES:Comedy
LOCATION:V Theater\, 3663 Las Vegas Strip\, Las Vegas\, NV 89109\, Las Vega
 s\, NV\, 89109\, United States
GEO:36.109275;-115.172553
X-APPLE-STRUCTURED-LOCATION;VALUE=URI;X-ADDRESS=3663 Las Vegas Strip\, Las 
 Vegas\, NV 89109\, Las Vegas\, NV\, 89109\, United States;X-APPLE-RADIUS=1
 00;X-TITLE=V Theater:geo:36.109275,-115.172553
END:VEVENT
BEGIN:VTIMEZONE
TZID:America/Los_Angeles
X-LIC-LOCATION:America/Los_Angeles
BEGIN:DAYLIGHT
DTSTART:20250309T030000
TZOFFSETFROM:-0800
TZOFFSETTO:-0700
TZNAME:PDT
END:DAYLIGHT
BEGIN:STANDARD
DTSTART:20251102T010000
TZOFFSETFROM:-0700
TZOFFSETTO:-0800
TZNAME:PST
END:STANDARD
BEGIN:DAYLIGHT
DTSTART:20260308T030000
TZOFFSETFROM:-0800
TZOFFSETTO:-0700
TZNAME:PDT
END:DAYLIGHT
BEGIN:STANDARD
DTSTART:20261101T010000
TZOFFSETFROM:-0700
TZOFFSETTO:-0800
TZNAME:PST
END:STANDARD
END:VTIMEZONE
END:VCALENDAR