BEGIN:VCALENDAR
VERSION:2.0
PRODID:-//wp-events-plugin.com//7.2.3.1//EN
BEGIN:VEVENT
UID:105@globkee.com
DTSTART;TZID=America/Los_Angeles:20260506T190000
DTEND;TZID=America/Los_Angeles:20260506T220000
DTSTAMP:20260423T142927Z
URL:https://globkee.com/events/35th-annual-san-diego-music-awards/
SUMMARY:35th annual San Diego Music Awards
DESCRIPTION:The SDMAs are back for another year\, honoring San Diego musici
 ans and raising money for Guitars for Schools.35th annual San Diego Music 
 Awards takes place on May 6\, 2026 at Humphreys by the Bay. The event hono
 rs San Diego music and musicians\, and benefits the San Diego Music Founda
 tion's Guitars for Schools program.
ATTACH;FMTTYPE=image/jpeg:https://globkee.com/gteam_content/uploads/2026/0
 4/100255769_image.jpg
CATEGORIES:Music Awards
LOCATION:Humphreys Concerts By The Bay\, 2241 Shelter Island Drive\, San Di
 ego\, CA 92106\, San Diego\, CA\, 92106\, United States
GEO:32.716736;-117.224038
X-APPLE-STRUCTURED-LOCATION;VALUE=URI;X-ADDRESS=2241 Shelter Island Drive\,
  San Diego\, CA 92106\, San Diego\, CA\, 92106\, United States;X-APPLE-RAD
 IUS=100;X-TITLE=Humphreys Concerts By The Bay:geo:32.716736,-117.224038
END:VEVENT
BEGIN:VTIMEZONE
TZID:America/Los_Angeles
X-LIC-LOCATION:America/Los_Angeles
BEGIN:DAYLIGHT
DTSTART:20260308T030000
TZOFFSETFROM:-0800
TZOFFSETTO:-0700
TZNAME:PDT
END:DAYLIGHT
END:VTIMEZONE
END:VCALENDAR